BEGIN:VCALENDAR
VERSION:2.0
PRODID:-//Belleville Citoyenne - ECPv6.0.1.1//NONSGML v1.0//EN
CALSCALE:GREGORIAN
METHOD:PUBLISH
X-ORIGINAL-URL:https://bellevillecitoyenne.fr
X-WR-CALDESC:Events for Belleville Citoyenne
REFRESH-INTERVAL;VALUE=DURATION:PT1H
X-Robots-Tag:noindex
X-PUBLISHED-TTL:PT1H
BEGIN:VTIMEZONE
TZID:Europe/Paris
BEGIN:DAYLIGHT
TZOFFSETFROM:+0100
TZOFFSETTO:+0200
TZNAME:CEST
DTSTART:20220327T010000
END:DAYLIGHT
BEGIN:STANDARD
TZOFFSETFROM:+0200
TZOFFSETTO:+0100
TZNAME:CET
DTSTART:20221030T010000
END:STANDARD
END:VTIMEZONE
BEGIN:VEVENT
DTSTART;TZID=Europe/Paris:20221210T140000
DTEND;TZID=Europe/Paris:20221210T160000
DTSTAMP:20260421T072416
CREATED:20221208T125033Z
LAST-MODIFIED:20221208T133118Z
UID:9151-1670680800-1670688000@bellevillecitoyenne.fr
SUMMARY:Ateliers MAO
DESCRIPTION:Viens créer une prod avec le logiciel FL Studio durant ces ateliers animés par notre ingé son\, Billie. \n 
URL:https://bellevillecitoyenne.fr/evenement/ateliers-mao-2/
LOCATION:studio\, France
CATEGORIES:numérique
ATTACH;FMTTYPE=image/png:https://bellevillecitoyenne.fr/wp-content/uploads/2022/12/6310c2c4e303a84b237b56a3.png
END:VEVENT
END:VCALENDAR