BEGIN:VCALENDAR
VERSION:2.0
PRODID:-//Belleville Citoyenne - ECPv6.0.1.1//NONSGML v1.0//EN
CALSCALE:GREGORIAN
METHOD:PUBLISH
X-ORIGINAL-URL:https://bellevillecitoyenne.fr
X-WR-CALDESC:Events for Belleville Citoyenne
REFRESH-INTERVAL;VALUE=DURATION:PT1H
X-Robots-Tag:noindex
X-PUBLISHED-TTL:PT1H
BEGIN:VTIMEZONE
TZID:Europe/Paris
BEGIN:DAYLIGHT
TZOFFSETFROM:+0100
TZOFFSETTO:+0200
TZNAME:CEST
DTSTART:20220327T010000
END:DAYLIGHT
BEGIN:STANDARD
TZOFFSETFROM:+0200
TZOFFSETTO:+0100
TZNAME:CET
DTSTART:20221030T010000
END:STANDARD
END:VTIMEZONE
BEGIN:VEVENT
DTSTART;TZID=Europe/Paris:20221215T140000
DTEND;TZID=Europe/Paris:20221215T160000
DTSTAMP:20260421T072955
CREATED:20221208T125632Z
LAST-MODIFIED:20221208T133414Z
UID:9160-1671112800-1671120000@bellevillecitoyenne.fr
SUMMARY:Ateliers DigitAll
DESCRIPTION:Initie-toi à l’informatique et au fonctionnement d’un ordinateur grâce à ces ateliers collectifs.
URL:https://bellevillecitoyenne.fr/evenement/ateliers-digitall-3/
LOCATION:18 rue Bisson\, France
CATEGORIES:numérique
ATTACH;FMTTYPE=image/png:https://bellevillecitoyenne.fr/wp-content/uploads/2022/12/636bc15c5d80e95e0b51d4a8.png
END:VEVENT
END:VCALENDAR