BEGIN:VCALENDAR
VERSION:2.0
PRODID:-//Belleville Citoyenne - ECPv6.0.1.1//NONSGML v1.0//EN
CALSCALE:GREGORIAN
METHOD:PUBLISH
X-ORIGINAL-URL:https://bellevillecitoyenne.fr
X-WR-CALDESC:Events for Belleville Citoyenne
REFRESH-INTERVAL;VALUE=DURATION:PT1H
X-Robots-Tag:noindex
X-PUBLISHED-TTL:PT1H
BEGIN:VTIMEZONE
TZID:Europe/Paris
BEGIN:DAYLIGHT
TZOFFSETFROM:+0100
TZOFFSETTO:+0200
TZNAME:CEST
DTSTART:20230326T010000
END:DAYLIGHT
BEGIN:STANDARD
TZOFFSETFROM:+0200
TZOFFSETTO:+0100
TZNAME:CET
DTSTART:20231029T010000
END:STANDARD
END:VTIMEZONE
BEGIN:VEVENT
DTSTART;TZID=Europe/Paris:20230120T203000
DTEND;TZID=Europe/Paris:20230120T225000
DTSTAMP:20260421T060443
CREATED:20230116T081849Z
LAST-MODIFIED:20230118T112147Z
UID:10042-1674246600-1674255000@bellevillecitoyenne.fr
SUMMARY:Sortie théâtre : spectacle 'Salle des fêtes' de Baptiste Amann
DESCRIPTION:Salle des fêtes de Baptiste Amann (durée 2h20) \nUn trio de jeunes urbain•e•s se lance dans un nouveau projet de vie : racheter le site d’une ancienne usine dans un petit village à la campagne pour le rénover et l’habiter. Mais leur rêve de décroissance et d’habitat partagé va se heurter à une réalité de terrain. Cette acquisition devient le centre d’enjeux politiques auxquels il•elle•s ne s’étaient pas préparé•e•s. Dans le huis-clos de la salle des fêtes du village\, il•elle•s sont forcées d’interroger leur utopie et à se confronter à la complexité des rapports entre bien commun et propriété privée\, ambitions écologiques et précarité sociale.
URL:https://bellevillecitoyenne.fr/evenement/salle-des-fetes-de-baptiste-amann/
LOCATION:Théâtre ouvert
CATEGORIES:théâtre
ATTACH;FMTTYPE=image/jpeg:https://bellevillecitoyenne.fr/wp-content/uploads/2023/01/image.jpg
END:VEVENT
END:VCALENDAR