BEGIN:VCALENDAR
VERSION:2.0
PRODID:-//Belleville Citoyenne - ECPv6.0.1.1//NONSGML v1.0//EN
CALSCALE:GREGORIAN
METHOD:PUBLISH
X-ORIGINAL-URL:https://bellevillecitoyenne.fr
X-WR-CALDESC:Events for Belleville Citoyenne
REFRESH-INTERVAL;VALUE=DURATION:PT1H
X-Robots-Tag:noindex
X-PUBLISHED-TTL:PT1H
BEGIN:VTIMEZONE
TZID:Europe/Paris
BEGIN:DAYLIGHT
TZOFFSETFROM:+0100
TZOFFSETTO:+0200
TZNAME:CEST
DTSTART:20230326T010000
END:DAYLIGHT
BEGIN:STANDARD
TZOFFSETFROM:+0200
TZOFFSETTO:+0100
TZNAME:CET
DTSTART:20231029T010000
END:STANDARD
END:VTIMEZONE
BEGIN:VEVENT
DTSTART;VALUE=DATE:20230123
DTEND;VALUE=DATE:20230124
DTSTAMP:20260421T060444
CREATED:20221221T133840Z
LAST-MODIFIED:20230115T082411Z
UID:9658-1674432000-1674439200@bellevillecitoyenne.fr
SUMMARY:Modul'r intensive
DESCRIPTION:la journée du Mercredi le 25/01/2023 est une journée OFF
URL:https://bellevillecitoyenne.fr/evenement/intensive/
LOCATION:salle de formation dans le 20ème – Quartier Belleville
CATEGORIES:Modul'R
ATTACH;FMTTYPE=image/jpeg:https://bellevillecitoyenne.fr/wp-content/uploads/2022/12/priscilla-du-preez-OEdkPaxYMXU-unsplash-2-2-scaled.jpg
END:VEVENT
END:VCALENDAR