BEGIN:VCALENDAR
VERSION:2.0
PRODID:-//Belleville Citoyenne - ECPv6.0.1.1//NONSGML v1.0//EN
CALSCALE:GREGORIAN
METHOD:PUBLISH
X-WR-CALNAME:Belleville Citoyenne
X-ORIGINAL-URL:https://bellevillecitoyenne.fr
X-WR-CALDESC:Events for Belleville Citoyenne
REFRESH-INTERVAL;VALUE=DURATION:PT1H
X-Robots-Tag:noindex
X-PUBLISHED-TTL:PT1H
BEGIN:VTIMEZONE
TZID:Europe/Paris
BEGIN:DAYLIGHT
TZOFFSETFROM:+0100
TZOFFSETTO:+0200
TZNAME:CEST
DTSTART:20230326T010000
END:DAYLIGHT
BEGIN:STANDARD
TZOFFSETFROM:+0200
TZOFFSETTO:+0100
TZNAME:CET
DTSTART:20231029T010000
END:STANDARD
END:VTIMEZONE
BEGIN:VEVENT
DTSTART;TZID=Europe/Paris:20230403T100000
DTEND;TZID=Europe/Paris:20230407T170000
DTSTAMP:20260421T020438
CREATED:20230213T165049Z
LAST-MODIFIED:20230404T093322Z
UID:10508-1680516000-1680886800@bellevillecitoyenne.fr
SUMMARY:Parcours Audiovisuel - Semaine découverte
DESCRIPTION:Venez découvrir les métiers du cinéma\, de la musique et de la création de contenus vidéo et audio. \n\nParticipez à deux semaines d’initiation pour développer tes compétences en : \n\n\nCaptation d’images et prises de vue\nMise en place d’un tournage\nMontage vidéo\n\nL’objectif de cette première semaine est de prendre connaissance des différentes étapes de la création d’une vidéo et du matériel nécessaire.
URL:https://bellevillecitoyenne.fr/evenement/parcours-audiovisuel/
CATEGORIES:Audiovisuel
ATTACH;FMTTYPE=image/jpeg:https://bellevillecitoyenne.fr/wp-content/uploads/2023/02/BC-Tournage-Gotham-48-scaled.jpg
END:VEVENT
END:VCALENDAR