BEGIN:VCALENDAR
VERSION:2.0
PRODID:-//Belleville Citoyenne - ECPv6.0.1.1//NONSGML v1.0//EN
CALSCALE:GREGORIAN
METHOD:PUBLISH
X-WR-CALNAME:Belleville Citoyenne
X-ORIGINAL-URL:https://bellevillecitoyenne.fr
X-WR-CALDESC:Events for Belleville Citoyenne
REFRESH-INTERVAL;VALUE=DURATION:PT1H
X-Robots-Tag:noindex
X-PUBLISHED-TTL:PT1H
BEGIN:VTIMEZONE
TZID:Europe/Paris
BEGIN:DAYLIGHT
TZOFFSETFROM:+0100
TZOFFSETTO:+0200
TZNAME:CEST
DTSTART:20230326T010000
END:DAYLIGHT
BEGIN:STANDARD
TZOFFSETFROM:+0200
TZOFFSETTO:+0100
TZNAME:CET
DTSTART:20231029T010000
END:STANDARD
END:VTIMEZONE
BEGIN:VEVENT
DTSTART;TZID=Europe/Paris:20230512T190000
DTEND;TZID=Europe/Paris:20230512T205000
DTSTAMP:20260421T003837
CREATED:20230116T083710Z
LAST-MODIFIED:20230413T151257Z
UID:10056-1683918000-1683924600@bellevillecitoyenne.fr
SUMMARY:Vielleicht de Cédric Djedje
DESCRIPTION:Vielleicht de Cédric Djedje (durée 1h50)\nDans une conférence entre fiction et documentaire\, deux artistes-chercheur•se•s afropéen•ne•s se questionnent sur les fantômes de la colonisation dans l’espace urbain. Iels s’appuient sur les mobilisations d’associations pour changer trois noms de rues honorant des colonisateurs dans le « quartier africain » à Berlin. Nous arpentons toustes les rues de nos villes\, empruntant des boulevards ou des impasses qui portent des noms d’hommes (le plus souvent…)\, mais qu’ont-ils fait pour que leur mémoire soit honorée ? Quelles histoires ces noms font-ils émerger ? Que faire quand des colonialistes sont mis en lumière par ces plaques aussi communes que symboliques ?
URL:https://bellevillecitoyenne.fr/evenement/vielleicht-de-cedric-djedje/
LOCATION:Plateaux Sauvages
CATEGORIES:théâtre
ATTACH;FMTTYPE=image/jpeg:https://bellevillecitoyenne.fr/wp-content/uploads/2023/01/13820395.jpg
END:VEVENT
END:VCALENDAR