BEGIN:VCALENDAR
VERSION:2.0
PRODID:-//Belleville Citoyenne - ECPv6.0.1.1//NONSGML v1.0//EN
CALSCALE:GREGORIAN
METHOD:PUBLISH
X-ORIGINAL-URL:https://bellevillecitoyenne.fr
X-WR-CALDESC:Events for Belleville Citoyenne
REFRESH-INTERVAL;VALUE=DURATION:PT1H
X-Robots-Tag:noindex
X-PUBLISHED-TTL:PT1H
BEGIN:VTIMEZONE
TZID:Europe/Paris
BEGIN:DAYLIGHT
TZOFFSETFROM:+0100
TZOFFSETTO:+0200
TZNAME:CEST
DTSTART:20230326T010000
END:DAYLIGHT
BEGIN:STANDARD
TZOFFSETFROM:+0200
TZOFFSETTO:+0100
TZNAME:CET
DTSTART:20231029T010000
END:STANDARD
END:VTIMEZONE
BEGIN:VEVENT
DTSTART;TZID=Europe/Paris:20230515T100000
DTEND;TZID=Europe/Paris:20230520T170000
DTSTAMP:20260421T004117
CREATED:20230214T163843Z
LAST-MODIFIED:20230329T133219Z
UID:10516-1684144800-1684602000@bellevillecitoyenne.fr
SUMMARY:Parcours Événementiel - Métiers du sport
DESCRIPTION:Viens participer à notre parcours événementiel : les métiers du sport ! \nAu programme : \n\nDécouvre le métier de chef de projet événementiel\nOrganise un événement sportif avec la Team S3\nRencontre des professionnel·le·s du milieu
URL:https://bellevillecitoyenne.fr/evenement/parcours-evenementiel-metiers-du-sport/
CATEGORIES:Événementiel
ATTACH;FMTTYPE=image/jpeg:https://bellevillecitoyenne.fr/wp-content/uploads/2022/07/P1130174-scaled-e1676388620450.jpg
END:VEVENT
END:VCALENDAR