BEGIN:VCALENDAR
VERSION:2.0
PRODID:-//Belleville Citoyenne - ECPv6.0.1.1//NONSGML v1.0//EN
CALSCALE:GREGORIAN
METHOD:PUBLISH
X-ORIGINAL-URL:https://bellevillecitoyenne.fr
X-WR-CALDESC:Events for Belleville Citoyenne
REFRESH-INTERVAL;VALUE=DURATION:PT1H
X-Robots-Tag:noindex
X-PUBLISHED-TTL:PT1H
BEGIN:VTIMEZONE
TZID:Europe/Paris
BEGIN:DAYLIGHT
TZOFFSETFROM:+0100
TZOFFSETTO:+0200
TZNAME:CEST
DTSTART:20230326T010000
END:DAYLIGHT
BEGIN:STANDARD
TZOFFSETFROM:+0200
TZOFFSETTO:+0100
TZNAME:CET
DTSTART:20231029T010000
END:STANDARD
END:VTIMEZONE
BEGIN:VEVENT
DTSTART;VALUE=DATE:20230522
DTEND;VALUE=DATE:20230523
DTSTAMP:20260421T004107
CREATED:20221221T140312Z
LAST-MODIFIED:20230405T153546Z
UID:9671-1684713600-1684720800@bellevillecitoyenne.fr
SUMMARY:Modul'r intensive
DESCRIPTION:Venez apprendre les bases de la culture web et découvrir les métiers du numérique en vous initiant à la programmation et au graphisme. \nNous vous donnons rendez-vous de 10h à 18h du lundi 22 au vendredi 26 mai à notre local au 76 rue des Rigoles. La journée du mercredi 24 mai est une journée OFF. \n 
URL:https://bellevillecitoyenne.fr/evenement/intensive-6/
LOCATION:salle de formation dans le 20ème – Quartier Belleville
CATEGORIES:Modul'R
ATTACH;FMTTYPE=image/jpeg:https://bellevillecitoyenne.fr/wp-content/uploads/2022/12/priscilla-du-preez-OEdkPaxYMXU-unsplash-2-2-scaled.jpg
END:VEVENT
END:VCALENDAR