BEGIN:VCALENDAR
VERSION:2.0
PRODID:-//Belleville Citoyenne - ECPv6.0.1.1//NONSGML v1.0//EN
CALSCALE:GREGORIAN
METHOD:PUBLISH
X-ORIGINAL-URL:https://bellevillecitoyenne.fr
X-WR-CALDESC:Events for Belleville Citoyenne
REFRESH-INTERVAL;VALUE=DURATION:PT1H
X-Robots-Tag:noindex
X-PUBLISHED-TTL:PT1H
BEGIN:VTIMEZONE
TZID:Europe/Paris
BEGIN:DAYLIGHT
TZOFFSETFROM:+0100
TZOFFSETTO:+0200
TZNAME:CEST
DTSTART:20230326T010000
END:DAYLIGHT
BEGIN:STANDARD
TZOFFSETFROM:+0200
TZOFFSETTO:+0100
TZNAME:CET
DTSTART:20231029T010000
END:STANDARD
END:VTIMEZONE
BEGIN:VEVENT
DTSTART;TZID=Europe/Paris:20230608T100000
DTEND;TZID=Europe/Paris:20230615T100000
DTSTAMP:20260420T233026
CREATED:20230328T155553Z
LAST-MODIFIED:20230526T160834Z
UID:11086-1686218400-1686823200@bellevillecitoyenne.fr
SUMMARY:Parcours Événementiel - Métiers du Spectacle vivant
DESCRIPTION:Viens participer à notre parcours événementiel : les métiers du spectacle vivant ! \nAu programme : \n\nDécouvre les différents métiers du monde du spectacle\nApprends les bases techniques du son et de la lumière avec le studio 129H\nOrganise et prépare un événement dans une salle de spectacle\nRencontre des professionnel·le·s du milieu\n\nFormulaire pour s’inscrire : Formulaire d’inscription
URL:https://bellevillecitoyenne.fr/evenement/parcours-evenementiel-metiers-du-spectacle-vivant/
LOCATION:Belleville Citoyenne Local Formations\, 76 rue des Rigoles\, Paris\, 75020\, France
CATEGORIES:Événementiel
ATTACH;FMTTYPE=image/jpeg:https://bellevillecitoyenne.fr/wp-content/uploads/2023/03/james-kovin-F2h_WbKnX4o-unsplash-scaled.jpg
END:VEVENT
END:VCALENDAR