BEGIN:VCALENDAR
VERSION:2.0
PRODID:-//Belleville Citoyenne - ECPv6.0.1.1//NONSGML v1.0//EN
CALSCALE:GREGORIAN
METHOD:PUBLISH
X-WR-CALNAME:Belleville Citoyenne
X-ORIGINAL-URL:https://bellevillecitoyenne.fr
X-WR-CALDESC:Events for Belleville Citoyenne
REFRESH-INTERVAL;VALUE=DURATION:PT1H
X-Robots-Tag:noindex
X-PUBLISHED-TTL:PT1H
BEGIN:VTIMEZONE
TZID:Europe/Paris
BEGIN:DAYLIGHT
TZOFFSETFROM:+0100
TZOFFSETTO:+0200
TZNAME:CEST
DTSTART:20230326T010000
END:DAYLIGHT
BEGIN:STANDARD
TZOFFSETFROM:+0200
TZOFFSETTO:+0100
TZNAME:CET
DTSTART:20231029T010000
END:STANDARD
END:VTIMEZONE
BEGIN:VEVENT
DTSTART;TZID=Europe/Paris:20230704T150000
DTEND;TZID=Europe/Paris:20230707T150000
DTSTAMP:20260420T221653
CREATED:20230531T104932Z
LAST-MODIFIED:20230602T102615Z
UID:11842-1688482800-1688742000@bellevillecitoyenne.fr
SUMMARY:Stage Rimes & Rythme
DESCRIPTION:Venez participer à notre stage de création musicale au studio ! \nAu programme : sessions d’enregistrement et création de prods animées par notre talentueux beatmaker et ingé son Holladaze. \n→ Rendez-vous à 15h du 4 au 7 juillet au studio\, au 18 rue Bisson. 
URL:https://bellevillecitoyenne.fr/evenement/stage-rimes-rythme/
LOCATION:Belleville Citoyenne\, 18 rue Bisson\, 75020\, Paris\, France
CATEGORIES:musique
ATTACH;FMTTYPE=image/jpeg:https://bellevillecitoyenne.fr/wp-content/uploads/2023/05/Stage-Musique-Convergence-scaled.jpg
END:VEVENT
END:VCALENDAR