BEGIN:VCALENDAR
VERSION:2.0
PRODID:-//Belleville Citoyenne - ECPv6.0.1.1//NONSGML v1.0//EN
CALSCALE:GREGORIAN
METHOD:PUBLISH
X-ORIGINAL-URL:https://bellevillecitoyenne.fr
X-WR-CALDESC:Events for Belleville Citoyenne
REFRESH-INTERVAL;VALUE=DURATION:PT1H
X-Robots-Tag:noindex
X-PUBLISHED-TTL:PT1H
BEGIN:VTIMEZONE
TZID:Europe/Paris
BEGIN:DAYLIGHT
TZOFFSETFROM:+0100
TZOFFSETTO:+0200
TZNAME:CEST
DTSTART:20230326T010000
END:DAYLIGHT
BEGIN:STANDARD
TZOFFSETFROM:+0200
TZOFFSETTO:+0100
TZNAME:CET
DTSTART:20231029T010000
END:STANDARD
END:VTIMEZONE
BEGIN:VEVENT
DTSTART;VALUE=DATE:20230807
DTEND;VALUE=DATE:20230808
DTSTAMP:20260420T212053
CREATED:20230728T143611Z
LAST-MODIFIED:20230728T154724Z
UID:12003-1691366400-1691375400@bellevillecitoyenne.fr
SUMMARY:Fermeture
DESCRIPTION:Belleville Citoyenne ferme ses portes du 07 au 20 août 2023. \n→ 18 rue Bisson\, 75020. \n→ 76 rue des Rigoles\, 75020. \nNous vous souhaitons de bonnes vacances !!
URL:https://bellevillecitoyenne.fr/evenement/fermeture/
LOCATION:Belleville Citoyenne\, 18 rue Bisson\, 75020\, Paris\, France
CATEGORIES:Fermeture
ATTACH;FMTTYPE=image/png:https://bellevillecitoyenne.fr/wp-content/uploads/2023/07/FERMETURE-BC-AOUT-1.png
END:VEVENT
END:VCALENDAR