BEGIN:VCALENDAR
VERSION:2.0
PRODID:-//Belleville Citoyenne - ECPv6.0.1.1//NONSGML v1.0//EN
CALSCALE:GREGORIAN
METHOD:PUBLISH
X-ORIGINAL-URL:https://bellevillecitoyenne.fr
X-WR-CALDESC:Events for Belleville Citoyenne
REFRESH-INTERVAL;VALUE=DURATION:PT1H
X-Robots-Tag:noindex
X-PUBLISHED-TTL:PT1H
BEGIN:VTIMEZONE
TZID:Europe/Paris
BEGIN:DAYLIGHT
TZOFFSETFROM:+0100
TZOFFSETTO:+0200
TZNAME:CEST
DTSTART:20230326T010000
END:DAYLIGHT
BEGIN:STANDARD
TZOFFSETFROM:+0200
TZOFFSETTO:+0100
TZNAME:CET
DTSTART:20231029T010000
END:STANDARD
END:VTIMEZONE
BEGIN:VEVENT
DTSTART;TZID=Europe/Paris:20230914T200000
DTEND;TZID=Europe/Paris:20230914T223000
DTSTAMP:20260420T200802
CREATED:20230531T110726Z
LAST-MODIFIED:20230728T140831Z
UID:11845-1694721600-1694730600@bellevillecitoyenne.fr
SUMMARY:Concert OGB
DESCRIPTION:Venez écouter et danser sur les sons de nos artistes du studio lors du concert événement organisé à La Flèche d’Or. \nRetrouvez une dizaine d’artistes du quartier de l’univers rap\, afro et RnB ! \n→ Rendez-vous à 20h le 14 septembre à La Flèche d’Or.
URL:https://bellevillecitoyenne.fr/evenement/concert-ogb/
LOCATION:La Flèche d’Or\, 102 Bis Rue de Bagnolet\, 75020\, Paris\, France
CATEGORIES:musique
ATTACH;FMTTYPE=image/jpeg:https://bellevillecitoyenne.fr/wp-content/uploads/2023/05/IMG_9463-scaled-e1685702284526.jpg
END:VEVENT
END:VCALENDAR