BEGIN:VCALENDAR
VERSION:2.0
PRODID:-//Belleville Citoyenne - ECPv6.0.1.1//NONSGML v1.0//EN
CALSCALE:GREGORIAN
METHOD:PUBLISH
X-ORIGINAL-URL:https://bellevillecitoyenne.fr
X-WR-CALDESC:Events for Belleville Citoyenne
REFRESH-INTERVAL;VALUE=DURATION:PT1H
X-Robots-Tag:noindex
X-PUBLISHED-TTL:PT1H
BEGIN:VTIMEZONE
TZID:Europe/Paris
BEGIN:DAYLIGHT
TZOFFSETFROM:+0100
TZOFFSETTO:+0200
TZNAME:CEST
DTSTART:20230326T010000
END:DAYLIGHT
BEGIN:STANDARD
TZOFFSETFROM:+0200
TZOFFSETTO:+0100
TZNAME:CET
DTSTART:20231029T010000
END:STANDARD
END:VTIMEZONE
BEGIN:VEVENT
DTSTART;TZID=Europe/Paris:20231002T080000
DTEND;TZID=Europe/Paris:20231006T160000
DTSTAMP:20260420T200803
CREATED:20230822T134645Z
LAST-MODIFIED:20230822T134809Z
UID:12021-1696233600-1696608000@bellevillecitoyenne.fr
SUMMARY:Modul'r intensive
DESCRIPTION:Venez approfondir vos connaissances dans le numérique et dans la programmation avec la formation Modul’R intensive. Au programme : création d’un site moderne et responsive en utilisant les langages informatiques : HTML & CSS et JavaScript. Cette formation est gratuite et s’adresse à toutes les personnes intéressées par le secteur du numérique. \n  \nRendez-vous dans notre salle de formation\, au 76 rue des Rigoles\, 75020.
URL:https://bellevillecitoyenne.fr/evenement/modulr-intensive/
LOCATION:salle de formation dans le 20ème – Quartier Belleville
CATEGORIES:Modul'R
ATTACH;FMTTYPE=image/jpeg:https://bellevillecitoyenne.fr/wp-content/uploads/2022/12/priscilla-du-preez-OEdkPaxYMXU-unsplash-2-2-scaled.jpg
END:VEVENT
END:VCALENDAR