BEGIN:VCALENDAR
VERSION:2.0
PRODID:-//Belleville Citoyenne - ECPv6.0.1.1//NONSGML v1.0//EN
CALSCALE:GREGORIAN
METHOD:PUBLISH
X-WR-CALNAME:Belleville Citoyenne
X-ORIGINAL-URL:https://bellevillecitoyenne.fr
X-WR-CALDESC:Events for Belleville Citoyenne
REFRESH-INTERVAL;VALUE=DURATION:PT1H
X-Robots-Tag:noindex
X-PUBLISHED-TTL:PT1H
BEGIN:VTIMEZONE
TZID:Europe/Paris
BEGIN:DAYLIGHT
TZOFFSETFROM:+0100
TZOFFSETTO:+0200
TZNAME:CEST
DTSTART:20230326T010000
END:DAYLIGHT
BEGIN:STANDARD
TZOFFSETFROM:+0200
TZOFFSETTO:+0100
TZNAME:CET
DTSTART:20231029T010000
END:STANDARD
END:VTIMEZONE
BEGIN:VEVENT
DTSTART;TZID=Europe/Paris:20231012T140000
DTEND;TZID=Europe/Paris:20231012T160000
DTSTAMP:20260422T131412
CREATED:20231006T154914Z
LAST-MODIFIED:20231006T155018Z
UID:12131-1697119200-1697126400@bellevillecitoyenne.fr
SUMMARY:Atelier Le Numérique c'pour moi
DESCRIPTION:Venez découvrir les bases et les usages informatiques du quotidien : utilisation de l’ordinateur\, démarches en ligne et échange de fichiers sur messagerie lors de cet atelier d’initiation animé par Vincent\, notre conseiller numérique. Niveau débutant  \n\n 
URL:https://bellevillecitoyenne.fr/evenement/atelier-le-numerique-cpour-moi/
CATEGORIES:numérique
ATTACH;FMTTYPE=image/jpeg:https://bellevillecitoyenne.fr/wp-content/uploads/2023/05/WhatsApp-Image-2023-05-12-at-11.52.28-10-e1713368965202.jpeg
END:VEVENT
END:VCALENDAR