BEGIN:VCALENDAR
VERSION:2.0
PRODID:-//Belleville Citoyenne - ECPv6.0.1.1//NONSGML v1.0//EN
CALSCALE:GREGORIAN
METHOD:PUBLISH
X-ORIGINAL-URL:https://bellevillecitoyenne.fr
X-WR-CALDESC:Events for Belleville Citoyenne
REFRESH-INTERVAL;VALUE=DURATION:PT1H
X-Robots-Tag:noindex
X-PUBLISHED-TTL:PT1H
BEGIN:VTIMEZONE
TZID:Europe/Paris
BEGIN:DAYLIGHT
TZOFFSETFROM:+0100
TZOFFSETTO:+0200
TZNAME:CEST
DTSTART:20240331T010000
END:DAYLIGHT
BEGIN:STANDARD
TZOFFSETFROM:+0200
TZOFFSETTO:+0100
TZNAME:CET
DTSTART:20241027T010000
END:STANDARD
END:VTIMEZONE
BEGIN:VEVENT
DTSTART;TZID=Europe/Paris:20240120T150000
DTEND;TZID=Europe/Paris:20240120T170000
DTSTAMP:20260422T120904
CREATED:20240112T164011Z
LAST-MODIFIED:20240112T164011Z
UID:12637-1705762800-1705770000@bellevillecitoyenne.fr
SUMMARY:Atelier MAO
DESCRIPTION:Venez participer à notre atelier de musique assistée par ordinateur ! Au programme : enregistrements et création de prods animé par notre talentueux beatmaker et ingé son HollaDaze. \nPour vous inscrire\, contactez notre médiateur Esdras au 06 41 33 47 62.
URL:https://bellevillecitoyenne.fr/evenement/atelier-mao/
LOCATION:18 rue Bisson\, France
CATEGORIES:musique
ATTACH;FMTTYPE=image/jpeg:https://bellevillecitoyenne.fr/wp-content/uploads/2023/05/Stage-Musique-Convergence-scaled.jpg
END:VEVENT
END:VCALENDAR