BEGIN:VCALENDAR
VERSION:2.0
PRODID:-//Belleville Citoyenne - ECPv6.0.1.1//NONSGML v1.0//EN
CALSCALE:GREGORIAN
METHOD:PUBLISH
X-ORIGINAL-URL:https://bellevillecitoyenne.fr
X-WR-CALDESC:Events for Belleville Citoyenne
REFRESH-INTERVAL;VALUE=DURATION:PT1H
X-Robots-Tag:noindex
X-PUBLISHED-TTL:PT1H
BEGIN:VTIMEZONE
TZID:Europe/Paris
BEGIN:DAYLIGHT
TZOFFSETFROM:+0100
TZOFFSETTO:+0200
TZNAME:CEST
DTSTART:20250330T010000
END:DAYLIGHT
BEGIN:STANDARD
TZOFFSETFROM:+0200
TZOFFSETTO:+0100
TZNAME:CET
DTSTART:20251026T010000
END:STANDARD
END:VTIMEZONE
BEGIN:VEVENT
DTSTART;TZID=Europe/Paris:20250120T100000
DTEND;TZID=Europe/Paris:20250207T170000
DTSTAMP:20260421T171629
CREATED:20241120T141914Z
LAST-MODIFIED:20260203T162008Z
UID:14667-1737367200-1738947600@bellevillecitoyenne.fr
SUMMARY:Parcours Audiovisuel
DESCRIPTION:Venez découvrir les métiers du cinéma et de la création de contenus vidéo et audio. \n\nParticipez à deux semaines d’initiation pour développer vos compétences en : \n\n\nCaptation d’images et prises de vue\nMise en place d’un tournage\nMontage vidéo\n\nL’objectif est de réaliser un court-métrage vidéo en groupe et maîtriser les différentes étapes de la réalisation vidéo. \nCe parcours est gratuit et s’adresse aux personnes âgées entre 16 et 30 ans. \nNous vous attendons nombreux·ses !
URL:https://bellevillecitoyenne.fr/evenement/parcours-audiovisuel-8/
LOCATION:76 rue des Rigoles\, 75020
CATEGORIES:Audiovisuel
ATTACH;FMTTYPE=image/jpeg:https://bellevillecitoyenne.fr/wp-content/uploads/2024/11/WhatsApp-Image-2024-10-03-at-10.45.43.jpeg
END:VEVENT
BEGIN:VEVENT
DTSTART;TZID=Europe/Paris:20250123T160000
DTEND;TZID=Europe/Paris:20250123T180000
DTSTAMP:20260421T171629
CREATED:20250117T115010Z
LAST-MODIFIED:20250117T115130Z
UID:15426-1737648000-1737655200@bellevillecitoyenne.fr
SUMMARY:Atelier Santé
DESCRIPTION:Atelier Santé : Présentation et Discussion sur la Santé Mentale \nRejoignez-nous pour un atelier dédié à la santé mentale\, animé par un intervenant du PRESM de la Fondation Falret\, spécialiste reconnu dans ce domaine. \nCet atelier sera une occasion unique pour : \n\nDécouvrir les fondamentaux de la santé mentale\nÉchanger et poser vos questions dans un cadre bienveillant\n\n📅 Date : Jeudi 23 janvier\n🕓 Horaires : De 16h à 18h\n📍 Lieu : 76 rue des Rigoles \nCet événement est ouvert à tous\, jeunes et adultes\, désireux d’en apprendre davantage ou de partager leur expérience sur ce sujet essentiel. \nVenez nombreux ! 💡
URL:https://bellevillecitoyenne.fr/evenement/atelier-sante-sante-mentale/
LOCATION:76 rue des Rigoles\, 75020
CATEGORIES:Bien-être/Santé
ATTACH;FMTTYPE=image/jpeg:https://bellevillecitoyenne.fr/wp-content/uploads/2025/01/3edb50a0-9772-43eb-8da8-cebac2426a89-scaled-e1748949390541.jpg
END:VEVENT
BEGIN:VEVENT
DTSTART;TZID=Europe/Paris:20250123T183000
DTEND;TZID=Europe/Paris:20250123T200000
DTSTAMP:20260421T171629
CREATED:20250116T110112Z
LAST-MODIFIED:20250117T150359Z
UID:15409-1737657000-1737662400@bellevillecitoyenne.fr
SUMMARY:Soirée Projection Cours Métrages - Belleville Ciotyenne x LABEC
DESCRIPTION:Rejoignez-nous pour une soirée exceptionnelle dédiée aux créations cinématographiques des jeunes talents de l’association Belleville Citoyenne et du LABEC ! \n📽️ Au programme : \n\nCourts-métrages : Compte à Rebours\, Les Moires\, Lil’ TKO\, Et Un Jour\, Et un jour\, Mona y va.\nMaking of : Découvrez les coulisses des tournages et le making of du projet Prévention des Rixes.\n\n📅 Quand ? Jeudi 23 janvier à 18h\n📍 Où ? Carré de Baudouin\, 75020 Paris \nUn rendez-vous cinéphile unique pour célébrer la créativité\, l’engagement et le travail collectif de nos jeunes talents. \n📩 Pour y assister :\nContactez notre médiateur culturel :\n✉️ mediation@bellevillecitoyenne.fr\n📞 06 41 33 47 62 \n✨ Un événement à ne pas manquer ! 
URL:https://bellevillecitoyenne.fr/evenement/soiree-projection-cours-metrages-belleville-ciotyenne-x-labec/
LOCATION:Carré de Baudouin\, 121 Rue de Ménilmontant\, Paris\, 75020\, France
CATEGORIES:événements
ATTACH;FMTTYPE=image/png:https://bellevillecitoyenne.fr/wp-content/uploads/2025/01/Soiree-Projection-1-e1737123880183.png
END:VEVENT
END:VCALENDAR