BEGIN:VCALENDAR
VERSION:2.0
PRODID:-//Belleville Citoyenne - ECPv6.0.1.1//NONSGML v1.0//EN
CALSCALE:GREGORIAN
METHOD:PUBLISH
X-WR-CALNAME:Belleville Citoyenne
X-ORIGINAL-URL:https://bellevillecitoyenne.fr
X-WR-CALDESC:Events for Belleville Citoyenne
REFRESH-INTERVAL;VALUE=DURATION:PT1H
X-Robots-Tag:noindex
X-PUBLISHED-TTL:PT1H
BEGIN:VTIMEZONE
TZID:Europe/Paris
BEGIN:DAYLIGHT
TZOFFSETFROM:+0100
TZOFFSETTO:+0200
TZNAME:CEST
DTSTART:20250330T010000
END:DAYLIGHT
BEGIN:STANDARD
TZOFFSETFROM:+0200
TZOFFSETTO:+0100
TZNAME:CET
DTSTART:20251026T010000
END:STANDARD
END:VTIMEZONE
BEGIN:VEVENT
DTSTART;TZID=Europe/Paris:20250922T100000
DTEND;TZID=Europe/Paris:20251003T170000
DTSTAMP:20260422T114627
CREATED:20250604T141557Z
LAST-MODIFIED:20250901T151640Z
UID:16602-1758535200-1759510800@bellevillecitoyenne.fr
SUMMARY:Formation Graphisme
DESCRIPTION:Envie d’apprendre à réaliser des images et animations percutantes ? Notre formation te donnera les clés pour concevoir des visuels professionnels\, que ce soit pour le print\, le web ou la vidéo. \nAu programme : \n\nInitiation aux bases du design graphiqueComprends les principes fondamentaux : composition\, typographie\, couleurs\, hiérarchie visuelle\nPrise en main des outils professionnelsDécouvre et pratique sur la suite Adobe (Photoshop\, Illustrator\, InDesign) et familiarise-toi avec les logiciels de PAO.\nCréation de supports visuelsRéalise tes propres affiches\, logos et maquettes web en suivant un brief créatif.\nConception de page webInitie-toi au webdesign et découvre comment utiliser WordPress pour créer une page claire et fonctionnelle.\nSoft skillsRenforce ta capacité à communiquer\, collaborer\, t’organiser… Autant d’atouts précieux pour ton avenir pro !\n\nL’objectif du parcours est de te permettre de maîtriser les outils et techniques nécessaires pour créer des visuels  adaptés à différents supports de communication. \n Dates : lundi 22 septembre au vendredi 3 octobre \n📍 76 rue des Rigoles\, 75020 Paris \n Pré-requis : être motivé(e) et curieux(se)\, aucun niveau technique requis !\n Public : Jeunes de 16 à 30 ans\n Places limitées – Inscription obligatoire !  Je m’inscris !
URL:https://bellevillecitoyenne.fr/evenement/parcours-graphisme-2/
LOCATION:76 rue des Rigoles\, 75020
CATEGORIES:Graphisme
ATTACH;FMTTYPE=image/jpeg:https://bellevillecitoyenne.fr/wp-content/uploads/2025/06/IMG_5003-scaled-e1749046510330.jpeg
END:VEVENT
END:VCALENDAR