BEGIN:VCALENDAR
VERSION:2.0
PRODID:-//Belleville Citoyenne - ECPv6.0.1.1//NONSGML v1.0//EN
CALSCALE:GREGORIAN
METHOD:PUBLISH
X-WR-CALNAME:Belleville Citoyenne
X-ORIGINAL-URL:https://bellevillecitoyenne.fr
X-WR-CALDESC:Events for Belleville Citoyenne
REFRESH-INTERVAL;VALUE=DURATION:PT1H
X-Robots-Tag:noindex
X-PUBLISHED-TTL:PT1H
BEGIN:VTIMEZONE
TZID:Europe/Paris
BEGIN:DAYLIGHT
TZOFFSETFROM:+0100
TZOFFSETTO:+0200
TZNAME:CEST
DTSTART:20250330T010000
END:DAYLIGHT
BEGIN:STANDARD
TZOFFSETFROM:+0200
TZOFFSETTO:+0100
TZNAME:CET
DTSTART:20251026T010000
END:STANDARD
END:VTIMEZONE
BEGIN:VEVENT
DTSTART;TZID=Europe/Paris:20250327T180000
DTEND;TZID=Europe/Paris:20250327T200000
DTSTAMP:20260420T132220
CREATED:20250320T163229Z
LAST-MODIFIED:20250320T163229Z
UID:16113-1743098400-1743105600@bellevillecitoyenne.fr
SUMMARY:Atelier Santé
DESCRIPTION:Cet atelier\, animé par des intervenants de l’ADSM (les Ambassadeurs de la Santé Mentale)\, vous invite à explorer un sujet essentiel\, les troubles psychiques\, pour mieux appréhender les réalités de la santé mentale. \n💡 Au programme :\n🔹 Comprendre les différents troubles psychiques et leur impact sur le quotidien\n🔹 Déconstruire les idées reçues et lutter contre la stigmatisation\n🔹 Découvrir des ressources et des outils pour mieux accompagner ou se faire accompagner \n📅 Jeudi 27 mars\n🕕 18h – 20h\n📍 76 rue des Rigoles \nInscription ➡️ Je m’inscris !  \nUn moment d’échange et de sensibilisation\, ouvert à tout public. Venez poser vos questions et en apprendre davantage ! 💙
URL:https://bellevillecitoyenne.fr/evenement/atelier-sante-4/
LOCATION:76 rue des Rigoles\, 75020
CATEGORIES:Bien-être/Santé
ATTACH;FMTTYPE=image/jpeg:https://bellevillecitoyenne.fr/wp-content/uploads/2025/01/3edb50a0-9772-43eb-8da8-cebac2426a89-scaled-e1748949390541.jpg
END:VEVENT
END:VCALENDAR