BEGIN:VCALENDAR
VERSION:2.0
PRODID:-//Belleville Citoyenne - ECPv6.0.1.1//NONSGML v1.0//EN
CALSCALE:GREGORIAN
METHOD:PUBLISH
X-WR-CALNAME:Belleville Citoyenne
X-ORIGINAL-URL:https://bellevillecitoyenne.fr
X-WR-CALDESC:Events for Belleville Citoyenne
REFRESH-INTERVAL;VALUE=DURATION:PT1H
X-Robots-Tag:noindex
X-PUBLISHED-TTL:PT1H
BEGIN:VTIMEZONE
TZID:Europe/Paris
BEGIN:DAYLIGHT
TZOFFSETFROM:+0100
TZOFFSETTO:+0200
TZNAME:CEST
DTSTART:20250330T010000
END:DAYLIGHT
BEGIN:STANDARD
TZOFFSETFROM:+0200
TZOFFSETTO:+0100
TZNAME:CET
DTSTART:20251026T010000
END:STANDARD
END:VTIMEZONE
BEGIN:VEVENT
DTSTART;TZID=Europe/Paris:20250405T130000
DTEND;TZID=Europe/Paris:20250405T160000
DTSTAMP:20260420T120527
CREATED:20250327T145907Z
LAST-MODIFIED:20250327T163417Z
UID:16227-1743858000-1743868800@bellevillecitoyenne.fr
SUMMARY:Atelier Santé - Mois de la Santé Mentale
DESCRIPTION:💡 Pour le mois de la santé mentale\, participez à la Fresque de la Santé Mentale® ! Un atelier interactif\, animé par Nightline\, pour mieux comprendre la santé mentale. \n👉 Au programme :🔹 Sensibiliser à la santé mentale via des espaces de discussion🔹 Informer sur les ressources disponibles pour soi et pour les autres🔹 Encourager l’engagement en faveur de la santé mentale à une échelle collective \n💬 Un moment d’échange pour mieux comprendre\, partager et agir ensemble ! Venez nombreux.ses 🌟 \n📅 Samedi 5 avril | 🕐 13h – 16h📍 76 rue des Rigoles\, 75020 \n📩 Inscription ouverte à tous.tes ➡️ Je m’inscris ! 
URL:https://bellevillecitoyenne.fr/evenement/atelier-sante-mois-de-la-sante-mentale/
LOCATION:76 rue des Rigoles\, 75020
CATEGORIES:Bien-être/Santé
ATTACH;FMTTYPE=image/jpeg:https://bellevillecitoyenne.fr/wp-content/uploads/2025/03/SanteMentale-F-1080-1350.jpg
END:VEVENT
END:VCALENDAR