BEGIN:VCALENDAR
VERSION:2.0
PRODID:-//Belleville Citoyenne - ECPv6.0.1.1//NONSGML v1.0//EN
CALSCALE:GREGORIAN
METHOD:PUBLISH
X-WR-CALNAME:Belleville Citoyenne
X-ORIGINAL-URL:https://bellevillecitoyenne.fr
X-WR-CALDESC:Events for Belleville Citoyenne
REFRESH-INTERVAL;VALUE=DURATION:PT1H
X-Robots-Tag:noindex
X-PUBLISHED-TTL:PT1H
BEGIN:VTIMEZONE
TZID:Europe/Paris
BEGIN:DAYLIGHT
TZOFFSETFROM:+0100
TZOFFSETTO:+0200
TZNAME:CEST
DTSTART:20250330T010000
END:DAYLIGHT
BEGIN:STANDARD
TZOFFSETFROM:+0200
TZOFFSETTO:+0100
TZNAME:CET
DTSTART:20251026T010000
END:STANDARD
END:VTIMEZONE
BEGIN:VEVENT
DTSTART;TZID=Europe/Paris:20250424T180000
DTEND;TZID=Europe/Paris:20250424T200000
DTSTAMP:20260420T120628
CREATED:20250418T094121Z
LAST-MODIFIED:20250423T155943Z
UID:16359-1745517600-1745524800@bellevillecitoyenne.fr
SUMMARY:Atelier Santé - Mois de la Santé Mentale 💚
DESCRIPTION:Dans le cadre du mois de la santé mentale\, nous vous invitons à un atelier autour de la vie affective et sexuelle\, un espace bienveillant pour échanger librement sur des sujets essentiels qui nous concernent tous·tes. \n🗣️ Au programme :— Un moment de discussion et de débat pour partager vos expériences\, vos questions\, vos réflexions— Des jeux explicatifs pour aborder ces thèmes de manière ludique et participative \nUn atelier pensé pour mieux comprendre\, déconstruire les tabous\, et prendre soin de soi dans ses relations affectives et intimes. \n📆 Jeudi 24 avril | 18h à 20h📍 76 rue des Rigoles\, 75020 Paris \n✅ Ouvert à tou·te·s – Entrée libre sur inscription : https://airtable.com/appo6t0N5auTsR1cv/shrW3eQqgudDp0O42
URL:https://bellevillecitoyenne.fr/evenement/atelier-sante-mois-de-la-sante-mentale-%f0%9f%92%9a/
LOCATION:76 rue des Rigoles\, 75020
CATEGORIES:Bien-être/Santé
ATTACH;FMTTYPE=image/jpeg:https://bellevillecitoyenne.fr/wp-content/uploads/2025/03/SanteMentale-F-1080-1350.jpg
END:VEVENT
END:VCALENDAR