BEGIN:VCALENDAR
VERSION:2.0
PRODID:-//Belleville Citoyenne - ECPv6.0.1.1//NONSGML v1.0//EN
CALSCALE:GREGORIAN
METHOD:PUBLISH
X-ORIGINAL-URL:https://bellevillecitoyenne.fr
X-WR-CALDESC:Events for Belleville Citoyenne
REFRESH-INTERVAL;VALUE=DURATION:PT1H
X-Robots-Tag:noindex
X-PUBLISHED-TTL:PT1H
BEGIN:VTIMEZONE
TZID:Europe/Paris
BEGIN:DAYLIGHT
TZOFFSETFROM:+0100
TZOFFSETTO:+0200
TZNAME:CEST
DTSTART:20220327T010000
END:DAYLIGHT
BEGIN:STANDARD
TZOFFSETFROM:+0200
TZOFFSETTO:+0100
TZNAME:CET
DTSTART:20221030T010000
END:STANDARD
END:VTIMEZONE
BEGIN:VEVENT
DTSTART;TZID=Europe/Paris:20221201T140000
DTEND;TZID=Europe/Paris:20221201T160000
DTSTAMP:20260421T060422
CREATED:20221208T123916Z
LAST-MODIFIED:20221208T133621Z
UID:9145-1669903200-1669910400@bellevillecitoyenne.fr
SUMMARY:Ateliers DigitAll
DESCRIPTION:Initie-toi à l’informatique et au fonctionnement d’un ordinateur grâce à ces ateliers collectifs.
URL:https://bellevillecitoyenne.fr/evenement/ateliers-digitall/
LOCATION:18 rue Bisson\, France
CATEGORIES:numérique
ATTACH;FMTTYPE=image/png:https://bellevillecitoyenne.fr/wp-content/uploads/2022/12/636bc15c5d80e95e0b51d4a8.png
END:VEVENT
BEGIN:VEVENT
DTSTART;TZID=Europe/Paris:20221202T140000
DTEND;TZID=Europe/Paris:20221202T160000
DTSTAMP:20260421T060422
CREATED:20221208T125614Z
LAST-MODIFIED:20221208T133436Z
UID:9159-1669989600-1669996800@bellevillecitoyenne.fr
SUMMARY:Ateliers DigitAll
DESCRIPTION:Initie-toi à l’informatique et au fonctionnement d’un ordinateur grâce à ces ateliers collectifs.
URL:https://bellevillecitoyenne.fr/evenement/ateliers-digitall-2/
LOCATION:18 rue Bisson\, France
CATEGORIES:numérique
ATTACH;FMTTYPE=image/png:https://bellevillecitoyenne.fr/wp-content/uploads/2022/12/636bc15c5d80e95e0b51d4a8.png
END:VEVENT
BEGIN:VEVENT
DTSTART;TZID=Europe/Paris:20221210T140000
DTEND;TZID=Europe/Paris:20221210T160000
DTSTAMP:20260421T060422
CREATED:20221208T125033Z
LAST-MODIFIED:20221208T133118Z
UID:9151-1670680800-1670688000@bellevillecitoyenne.fr
SUMMARY:Ateliers MAO
DESCRIPTION:Viens créer une prod avec le logiciel FL Studio durant ces ateliers animés par notre ingé son\, Billie. \n 
URL:https://bellevillecitoyenne.fr/evenement/ateliers-mao-2/
LOCATION:studio\, France
CATEGORIES:numérique
ATTACH;FMTTYPE=image/png:https://bellevillecitoyenne.fr/wp-content/uploads/2022/12/6310c2c4e303a84b237b56a3.png
END:VEVENT
BEGIN:VEVENT
DTSTART;TZID=Europe/Paris:20221215T140000
DTEND;TZID=Europe/Paris:20221215T160000
DTSTAMP:20260421T060422
CREATED:20221208T125632Z
LAST-MODIFIED:20221208T133414Z
UID:9160-1671112800-1671120000@bellevillecitoyenne.fr
SUMMARY:Ateliers DigitAll
DESCRIPTION:Initie-toi à l’informatique et au fonctionnement d’un ordinateur grâce à ces ateliers collectifs.
URL:https://bellevillecitoyenne.fr/evenement/ateliers-digitall-3/
LOCATION:18 rue Bisson\, France
CATEGORIES:numérique
ATTACH;FMTTYPE=image/png:https://bellevillecitoyenne.fr/wp-content/uploads/2022/12/636bc15c5d80e95e0b51d4a8.png
END:VEVENT
BEGIN:VEVENT
DTSTART;TZID=Europe/Paris:20221216T140000
DTEND;TZID=Europe/Paris:20221216T160000
DTSTAMP:20260421T060422
CREATED:20221208T125807Z
LAST-MODIFIED:20221208T133452Z
UID:9165-1671199200-1671206400@bellevillecitoyenne.fr
SUMMARY:Ateliers DigitAll
DESCRIPTION:Initie-toi à l’informatique et au fonctionnement d’un ordinateur grâce à ces ateliers collectifs.
URL:https://bellevillecitoyenne.fr/evenement/ateliers-digitall-4/
LOCATION:18 rue Bisson\, France
CATEGORIES:numérique
ATTACH;FMTTYPE=image/png:https://bellevillecitoyenne.fr/wp-content/uploads/2022/12/636bc15c5d80e95e0b51d4a8.png
END:VEVENT
BEGIN:VEVENT
DTSTART;TZID=Europe/Paris:20221217T140000
DTEND;TZID=Europe/Paris:20221217T180000
DTSTAMP:20260421T060422
CREATED:20221208T123444Z
LAST-MODIFIED:20221208T130723Z
UID:9142-1671285600-1671300000@bellevillecitoyenne.fr
SUMMARY:Ateliers d'écriture
DESCRIPTION:Participe à l’écriture du prochain projet théâtral de Convergence mené par l’auteure Penda Diouf.
URL:https://bellevillecitoyenne.fr/evenement/ateliers-decriture/
LOCATION:théâtre national La Colline
CATEGORIES:théâtre
ATTACH;FMTTYPE=image/png:https://bellevillecitoyenne.fr/wp-content/uploads/2022/12/636bc0652cf592152a12c33d.png
END:VEVENT
BEGIN:VEVENT
DTSTART;TZID=Europe/Paris:20221218T140000
DTEND;TZID=Europe/Paris:20221218T180000
DTSTAMP:20260421T060422
CREATED:20221208T125331Z
LAST-MODIFIED:20221208T130437Z
UID:9156-1671372000-1671386400@bellevillecitoyenne.fr
SUMMARY:Ateliers d'écriture
DESCRIPTION:Participe à l’écriture du prochain projet théâtral de Convergence mené par l’auteure Penda Diouf.
URL:https://bellevillecitoyenne.fr/evenement/ateliers-decriture-2/
LOCATION:théâtre national La Colline
CATEGORIES:théâtre
ATTACH;FMTTYPE=image/png:https://bellevillecitoyenne.fr/wp-content/uploads/2022/12/636bc0652cf592152a12c33d.png
END:VEVENT
BEGIN:VEVENT
DTSTART;TZID=Europe/Paris:20221221T140000
DTEND;TZID=Europe/Paris:20221221T180000
DTSTAMP:20260421T060422
CREATED:20221208T125343Z
LAST-MODIFIED:20221208T130430Z
UID:9155-1671631200-1671645600@bellevillecitoyenne.fr
SUMMARY:Ateliers d'écriture
DESCRIPTION:Participe à l’écriture du prochain projet théâtral de Convergence mené par l’auteure Penda Diouf.
URL:https://bellevillecitoyenne.fr/evenement/ateliers-decriture-3/
LOCATION:théâtre national La Colline
CATEGORIES:théâtre
ATTACH;FMTTYPE=image/png:https://bellevillecitoyenne.fr/wp-content/uploads/2022/12/636bc0652cf592152a12c33d.png
END:VEVENT
BEGIN:VEVENT
DTSTART;TZID=Europe/Paris:20221222T140000
DTEND;TZID=Europe/Paris:20221222T160000
DTSTAMP:20260421T060422
CREATED:20221208T125841Z
LAST-MODIFIED:20221208T133512Z
UID:9164-1671717600-1671724800@bellevillecitoyenne.fr
SUMMARY:Ateliers DigitAll
DESCRIPTION:Initie-toi à l’informatique et au fonctionnement d’un ordinateur grâce à ces ateliers collectifs.
URL:https://bellevillecitoyenne.fr/evenement/ateliers-digitall-5/
LOCATION:18 rue Bisson\, France
CATEGORIES:numérique
ATTACH;FMTTYPE=image/png:https://bellevillecitoyenne.fr/wp-content/uploads/2022/12/636bc15c5d80e95e0b51d4a8.png
END:VEVENT
BEGIN:VEVENT
DTSTART;TZID=Europe/Paris:20221223T140000
DTEND;TZID=Europe/Paris:20221223T160000
DTSTAMP:20260421T060422
CREATED:20221208T125852Z
LAST-MODIFIED:20221208T133522Z
UID:9163-1671804000-1671811200@bellevillecitoyenne.fr
SUMMARY:Ateliers DigitAll
DESCRIPTION:Initie-toi à l’informatique et au fonctionnement d’un ordinateur grâce à ces ateliers collectifs.
URL:https://bellevillecitoyenne.fr/evenement/ateliers-digitall-6/
LOCATION:18 rue Bisson\, France
CATEGORIES:numérique
ATTACH;FMTTYPE=image/png:https://bellevillecitoyenne.fr/wp-content/uploads/2022/12/636bc15c5d80e95e0b51d4a8.png
END:VEVENT
END:VCALENDAR