BEGIN:VCALENDAR
VERSION:2.0
PRODID:-//Belleville Citoyenne - ECPv6.0.1.1//NONSGML v1.0//EN
CALSCALE:GREGORIAN
METHOD:PUBLISH
X-WR-CALNAME:Belleville Citoyenne
X-ORIGINAL-URL:https://bellevillecitoyenne.fr
X-WR-CALDESC:Events for Belleville Citoyenne
REFRESH-INTERVAL;VALUE=DURATION:PT1H
X-Robots-Tag:noindex
X-PUBLISHED-TTL:PT1H
BEGIN:VTIMEZONE
TZID:Europe/Paris
BEGIN:DAYLIGHT
TZOFFSETFROM:+0100
TZOFFSETTO:+0200
TZNAME:CEST
DTSTART:20230326T010000
END:DAYLIGHT
BEGIN:STANDARD
TZOFFSETFROM:+0200
TZOFFSETTO:+0100
TZNAME:CET
DTSTART:20231029T010000
END:STANDARD
END:VTIMEZONE
BEGIN:VEVENT
DTSTART;TZID=Europe/Paris:20230210T203000
DTEND;TZID=Europe/Paris:20230210T214000
DTSTAMP:20260421T031949
CREATED:20230116T082236Z
LAST-MODIFIED:20230131T103240Z
UID:10045-1676061000-1676065200@bellevillecitoyenne.fr
SUMMARY:Le moment psychologique de Nicolas Doutey / Alain Françon
DESCRIPTION:Le moment psychologique de Nicolas Doutey / Alain Françon (durée 1h10\, à partir de 14 ans)\nSous des airs de comédie\, Le moment psychologique aborde la question du politique. Il ne s’agit pas de l’aborder sur le mode de la satire\, mais plutôt de dessiner un rêve politique\, une utopie. Le rire est ainsi placé à un endroit singulier\, c’est un comique sans cible et sensible. Dans cette pièce\, Matt\, femme politique\, souhaite développer un projet pour réformer la portée et l’endroit du politique dans le monde. Elle pense que Paul\, qu’elle ne connaît pas\, pourrait y jouer un rôle central…
URL:https://bellevillecitoyenne.fr/evenement/le-moment-psychologique-de-nicolas-doutey-alain-francon/
LOCATION:Théâtre ouvert
CATEGORIES:théâtre
ATTACH;FMTTYPE=image/jpeg:https://bellevillecitoyenne.fr/wp-content/uploads/2023/01/moment-psychologique-rdl-0063-scaled-1.jpg
END:VEVENT
BEGIN:VEVENT
DTSTART;VALUE=DATE:20230213
DTEND;VALUE=DATE:20230214
DTSTAMP:20260421T031949
CREATED:20221221T141543Z
LAST-MODIFIED:20230131T104107Z
UID:9705-1676246400-1676253600@bellevillecitoyenne.fr
SUMMARY:Modul'r Découverte
DESCRIPTION:la journée du Jeudi le 16/02/2023 est une journée OFF
URL:https://bellevillecitoyenne.fr/evenement/modulr-decouverte/
LOCATION:salle de formation dans le 20ème – Quartier Belleville
CATEGORIES:Modul'R
ATTACH;FMTTYPE=image/jpeg:https://bellevillecitoyenne.fr/wp-content/uploads/2022/12/priscilla-du-preez-OEdkPaxYMXU-unsplash-2-2-scaled.jpg
END:VEVENT
BEGIN:VEVENT
DTSTART;VALUE=DATE:20230220
DTEND;VALUE=DATE:20230221
DTSTAMP:20260421T031949
CREATED:20221221T134247Z
LAST-MODIFIED:20230213T152119Z
UID:9662-1676851200-1676858400@bellevillecitoyenne.fr
SUMMARY:Modul'r Intensive
DESCRIPTION:Venez apprendre les bases de la culture web et découvrir les métiers du numérique en s’initiant à la programmation et au graphisme avec un formateur impliqué et bienveillant. \nNous vous donnons rendez-vous de 10h à 18h du lundi 13 au vendredi 17 février au 10 rue du père Julien Dhuit\, 75020 \nLa journée du Mercredi le 20/12/2023 est une journée OFF
URL:https://bellevillecitoyenne.fr/evenement/intensive-3/
LOCATION:Belleville Citoyenne – 2ème local\, 10 rue du Père Julien Dhuit\, Paris\, France
CATEGORIES:Modul'R
ATTACH;FMTTYPE=image/png:https://bellevillecitoyenne.fr/wp-content/uploads/2022/12/Capture-decran-2023-01-31-114845-e1675162197169.png
END:VEVENT
BEGIN:VEVENT
DTSTART;TZID=Europe/Paris:20230228T140000
DTEND;TZID=Europe/Paris:20230304T180000
DTSTAMP:20260421T031949
CREATED:20230213T151245Z
LAST-MODIFIED:20230213T151245Z
UID:10500-1677592800-1677952800@bellevillecitoyenne.fr
SUMMARY:Ateliers Création sonore
DESCRIPTION:Découvre l’univers de la création musicale en élaborant la bande-son de la pièce de théâtre de Convergence. Les ateliers sont animés par HollaDaze\, beatmaker et ingénieur son.\nNous vous donnons rendez-vous de 14h à 18h le mardi 28 février jusqu’au samedi 4 mars dans notre studio d’enregistrement au 18 rue Bisson\, 75020 Paris.
URL:https://bellevillecitoyenne.fr/evenement/ateliers-creation-sonore/
LOCATION:Belleville Citoyenne\, 18 rue Bisson\, 75020\, Paris\, France
CATEGORIES:musique
ATTACH;FMTTYPE=image/jpeg:https://bellevillecitoyenne.fr/wp-content/uploads/2023/02/WhatsApp-Image-2023-01-25-a-05.51.44.jpg
END:VEVENT
END:VCALENDAR