BEGIN:VCALENDAR
VERSION:2.0
PRODID:-//Belleville Citoyenne - ECPv6.0.1.1//NONSGML v1.0//EN
CALSCALE:GREGORIAN
METHOD:PUBLISH
X-WR-CALNAME:Belleville Citoyenne
X-ORIGINAL-URL:https://bellevillecitoyenne.fr
X-WR-CALDESC:Events for Belleville Citoyenne
REFRESH-INTERVAL;VALUE=DURATION:PT1H
X-Robots-Tag:noindex
X-PUBLISHED-TTL:PT1H
BEGIN:VTIMEZONE
TZID:Europe/Paris
BEGIN:DAYLIGHT
TZOFFSETFROM:+0100
TZOFFSETTO:+0200
TZNAME:CEST
DTSTART:20230326T010000
END:DAYLIGHT
BEGIN:STANDARD
TZOFFSETFROM:+0200
TZOFFSETTO:+0100
TZNAME:CET
DTSTART:20231029T010000
END:STANDARD
END:VTIMEZONE
BEGIN:VEVENT
DTSTART;TZID=Europe/Paris:20230228T140000
DTEND;TZID=Europe/Paris:20230304T180000
DTSTAMP:20260421T020349
CREATED:20230213T151245Z
LAST-MODIFIED:20230213T151245Z
UID:10500-1677592800-1677952800@bellevillecitoyenne.fr
SUMMARY:Ateliers Création sonore
DESCRIPTION:Découvre l’univers de la création musicale en élaborant la bande-son de la pièce de théâtre de Convergence. Les ateliers sont animés par HollaDaze\, beatmaker et ingénieur son.\nNous vous donnons rendez-vous de 14h à 18h le mardi 28 février jusqu’au samedi 4 mars dans notre studio d’enregistrement au 18 rue Bisson\, 75020 Paris.
URL:https://bellevillecitoyenne.fr/evenement/ateliers-creation-sonore/
LOCATION:Belleville Citoyenne\, 18 rue Bisson\, 75020\, Paris\, France
CATEGORIES:musique
ATTACH;FMTTYPE=image/jpeg:https://bellevillecitoyenne.fr/wp-content/uploads/2023/02/WhatsApp-Image-2023-01-25-a-05.51.44.jpg
END:VEVENT
BEGIN:VEVENT
DTSTART;TZID=Europe/Paris:20230317T203000
DTEND;TZID=Europe/Paris:20230317T214500
DTSTAMP:20260421T020349
CREATED:20230116T082600Z
LAST-MODIFIED:20230303T103250Z
UID:10047-1679085000-1679089500@bellevillecitoyenne.fr
SUMMARY:Grand-duc de Alexandre Horréard / Laurent Charpentier
DESCRIPTION:Grand-duc de Alexandre Horréard / Laurent Charpentier (durée 1h15)\nUn homme est retrouvé nu\, poignardé dans sa baignoire. Un inspecteur de police est chargé d’enquêter sur sa mort. Il se rend sur les lieux du crime et s’entretient avec les proches de la victime. À travers ces entretiens\, se révèlent le manque d’amour\, la solitude\, le lien perdu entre les êtres. L’enquête devient peu à peu une quête de sens\, vitale pour le policier\, hanté par une voix mystérieuse et par l’image d’un grand-duc\, superbe et terrifiant.
URL:https://bellevillecitoyenne.fr/evenement/grand-duc-de-alexandre-horreard-laurent-charpentier/
LOCATION:Théâtre ouvert
CATEGORIES:théâtre
ATTACH;FMTTYPE=image/jpeg:https://bellevillecitoyenne.fr/wp-content/uploads/2023/01/7d5b6db081a3705af457a00f0137f7da.jpg
END:VEVENT
BEGIN:VEVENT
DTSTART;VALUE=DATE:20230320
DTEND;VALUE=DATE:20230325
DTSTAMP:20260421T020349
CREATED:20230303T101629Z
LAST-MODIFIED:20230309T125400Z
UID:10938-1679270400-1679673540@bellevillecitoyenne.fr
SUMMARY:Modul'r Découverte
DESCRIPTION:Venez apprendre les bases de la culture web et découvrir les métiers du numérique en s’initiant à la programmation et au graphisme avec un formateur impliqué et bienveillant. \nNous vous donnons rendez-vous de 10h à 18h du lundi 20 au vendredi 24 mars à La Mission Locale du 20ème\, 3 rue de l’Est\, 75020. \nLa journée du Mercredi 22 mars est une journée OFF
URL:https://bellevillecitoyenne.fr/evenement/modulr-decouverte-2/
LOCATION:salle de formation dans le 20ème – Quartier Belleville
CATEGORIES:Modul'R
ATTACH;FMTTYPE=image/png:https://bellevillecitoyenne.fr/wp-content/uploads/2023/03/Capture-decran-2023-01-31-114845.png
END:VEVENT
BEGIN:VEVENT
DTSTART;TZID=Europe/Paris:20230324T200000
DTEND;TZID=Europe/Paris:20230324T211500
DTSTAMP:20260421T020349
CREATED:20230116T082830Z
LAST-MODIFIED:20230309T125624Z
UID:10049-1679688000-1679692500@bellevillecitoyenne.fr
SUMMARY:Nos corps empoisonnés de Marine Bachelot Nguyen
DESCRIPTION:Nos corps empoisonnés de Marine Bachelot Nguyen (durée 1h15\, à partir de 15 ans)\nNos corps empoisonnés nous plonge dans l’histoire de Tran To Nga\, viêtnamienne engagée toute sa vie dans de multiples combats\, anti-impérialistes\, féministes\, écologiques… Jeune résistante dans le maquis pendant la guerre du Viêtnam\, elle est exposée comme tant d’autres aux épandages américains de l’agent orange. Aujourd’hui depuis la France\, elle mène un procès historique contre des firmes agro-industrielles états-uniennes\, pour dénoncer les ravages de ce poison dans les organismes et la terre.
URL:https://bellevillecitoyenne.fr/evenement/nos-corps-empoisonnes-de-marine-bachelot-nguyen/
LOCATION:Plateaux Sauvages
CATEGORIES:théâtre
ATTACH;FMTTYPE=image/jpeg:https://bellevillecitoyenne.fr/wp-content/uploads/2023/01/NCE_website.jpg
END:VEVENT
BEGIN:VEVENT
DTSTART;VALUE=DATE:20230327
DTEND;VALUE=DATE:20230328
DTSTAMP:20260421T020349
CREATED:20221221T140150Z
LAST-MODIFIED:20230309T125233Z
UID:9669-1679875200-1679882400@bellevillecitoyenne.fr
SUMMARY:Modul'r intensive
DESCRIPTION:Venez apprendre les bases de la culture web et découvrir les métiers du numérique en s’initiant à la programmation et au graphisme avec un formateur impliqué et bienveillant. \nNous vous donnons rendez-vous de 10h à 18h du lundi 27 au vendredi 31 mars à La Mission Locale du 20ème\, 3 rue de l’Est\, 75020. \n  \nLa journée du Mercredi le 29/03/2023 est une journée OFF
URL:https://bellevillecitoyenne.fr/evenement/intensive-5/
LOCATION:salle de formation dans le 20ème – Quartier Belleville
CATEGORIES:Modul'R
ATTACH;FMTTYPE=image/jpeg:https://bellevillecitoyenne.fr/wp-content/uploads/2022/12/priscilla-du-preez-OEdkPaxYMXU-unsplash-2-2-scaled.jpg
END:VEVENT
END:VCALENDAR