BEGIN:VCALENDAR
VERSION:2.0
PRODID:-//Belleville Citoyenne - ECPv6.0.1.1//NONSGML v1.0//EN
CALSCALE:GREGORIAN
METHOD:PUBLISH
X-WR-CALNAME:Belleville Citoyenne
X-ORIGINAL-URL:https://bellevillecitoyenne.fr
X-WR-CALDESC:Events for Belleville Citoyenne
REFRESH-INTERVAL;VALUE=DURATION:PT1H
X-Robots-Tag:noindex
X-PUBLISHED-TTL:PT1H
BEGIN:VTIMEZONE
TZID:Europe/Paris
BEGIN:DAYLIGHT
TZOFFSETFROM:+0100
TZOFFSETTO:+0200
TZNAME:CEST
DTSTART:20230326T010000
END:DAYLIGHT
BEGIN:STANDARD
TZOFFSETFROM:+0200
TZOFFSETTO:+0100
TZNAME:CET
DTSTART:20231029T010000
END:STANDARD
END:VTIMEZONE
BEGIN:VEVENT
DTSTART;TZID=Europe/Paris:20230608T100000
DTEND;TZID=Europe/Paris:20230615T100000
DTSTAMP:20260420T221627
CREATED:20230328T155553Z
LAST-MODIFIED:20230526T160834Z
UID:11086-1686218400-1686823200@bellevillecitoyenne.fr
SUMMARY:Parcours Événementiel - Métiers du Spectacle vivant
DESCRIPTION:Viens participer à notre parcours événementiel : les métiers du spectacle vivant ! \nAu programme : \n\nDécouvre les différents métiers du monde du spectacle\nApprends les bases techniques du son et de la lumière avec le studio 129H\nOrganise et prépare un événement dans une salle de spectacle\nRencontre des professionnel·le·s du milieu\n\nFormulaire pour s’inscrire : Formulaire d’inscription
URL:https://bellevillecitoyenne.fr/evenement/parcours-evenementiel-metiers-du-spectacle-vivant/
LOCATION:Belleville Citoyenne Local Formations\, 76 rue des Rigoles\, Paris\, 75020\, France
CATEGORIES:Événementiel
ATTACH;FMTTYPE=image/jpeg:https://bellevillecitoyenne.fr/wp-content/uploads/2023/03/james-kovin-F2h_WbKnX4o-unsplash-scaled.jpg
END:VEVENT
BEGIN:VEVENT
DTSTART;TZID=Europe/Paris:20230610T140000
DTEND;TZID=Europe/Paris:20230610T170000
DTSTAMP:20260420T221627
CREATED:20230530T154627Z
LAST-MODIFIED:20230608T133331Z
UID:11816-1686405600-1686416400@bellevillecitoyenne.fr
SUMMARY:Forum Femmes en Actions
DESCRIPTION:Venez assister au Forum Femmes en Actions et découvrir notre plateau radio mettant en lumière les associations présentes et leurs actions. Nous accueillerons également deux artistes rappeuses pour un concert live. \nAu programme : ateliers participatifs\, expositions\, débats et projections autour de l’égalité femmes-hommes. \n→ Rendez-vous à 14h le 10 juin à l’amphithéâtre du parc de Belleville\, dans le 20ème arrondissement. 
URL:https://bellevillecitoyenne.fr/evenement/forum-femmes-en-actions/
LOCATION:Parc de Belleville\, 27 Rue Piat\, 75020 Paris\, Paris\, France
CATEGORIES:événements,événements
ATTACH;FMTTYPE=image/jpeg:https://bellevillecitoyenne.fr/wp-content/uploads/2023/05/FFA-e1685698987176.jpeg
END:VEVENT
BEGIN:VEVENT
DTSTART;TZID=Europe/Paris:20230623T193000
DTEND;TZID=Europe/Paris:20230624T193000
DTSTAMP:20260420T221627
CREATED:20230531T084406Z
LAST-MODIFIED:20230602T101818Z
UID:11820-1687548600-1687635000@bellevillecitoyenne.fr
SUMMARY:Représentation de la pièce À la croisée
DESCRIPTION:Découvrez la nouvelle pièce de théâtre de la troupe Convergence : À la croisée. Cette 6ème édition du projet théâtral intergénérationnel et pluridisciplinaire sera jouée le 23 et 24 juin au Théâtre National de la Colline. \nLes 11 comédienn·e·s amateur·se·s ont participé à toutes les étapes de la création\, de l’écriture du texte à la scénographie en passant par la création musicale. \nÀ la croisée est une pièce qui dresse une fresque de personnages qui ont en commun le sentiment d’être prisonniers d’une situation\, s’exprimant par l’impuissance à s’affranchir\, la complexité d’être au lieu de paraître ou encore l’enlisement. \n→ Au Théâtre National de La Colline\, au 15 Rue Malte Brun – entrée gratuite sous réservation à culture@bellevillecitoyenne.fr. 
URL:https://bellevillecitoyenne.fr/evenement/representation-de-la-piece-a-la-croisee/
LOCATION:Théâtre National de La Colline\, 15 Rue Malte Brun\, 75020\, Paris\, France
CATEGORIES:théâtre
ATTACH;FMTTYPE=image/jpeg:https://bellevillecitoyenne.fr/wp-content/uploads/2023/05/WhatsApp-Image-2023-05-04-at-18.29.59-e1685699614403.jpeg
END:VEVENT
END:VCALENDAR