BEGIN:VCALENDAR
VERSION:2.0
PRODID:-//Belleville Citoyenne - ECPv6.0.1.1//NONSGML v1.0//EN
CALSCALE:GREGORIAN
METHOD:PUBLISH
X-ORIGINAL-URL:https://bellevillecitoyenne.fr
X-WR-CALDESC:Events for Belleville Citoyenne
REFRESH-INTERVAL;VALUE=DURATION:PT1H
X-Robots-Tag:noindex
X-PUBLISHED-TTL:PT1H
BEGIN:VTIMEZONE
TZID:Europe/Paris
BEGIN:DAYLIGHT
TZOFFSETFROM:+0100
TZOFFSETTO:+0200
TZNAME:CEST
DTSTART:20230326T010000
END:DAYLIGHT
BEGIN:STANDARD
TZOFFSETFROM:+0200
TZOFFSETTO:+0100
TZNAME:CET
DTSTART:20231029T010000
END:STANDARD
END:VTIMEZONE
BEGIN:VEVENT
DTSTART;TZID=Europe/Paris:20230804T210000
DTEND;TZID=Europe/Paris:20230804T230000
DTSTAMP:20260420T200544
CREATED:20230531T094435Z
LAST-MODIFIED:20230728T141125Z
UID:11832-1691182800-1691190000@bellevillecitoyenne.fr
SUMMARY:Projections Ciné Pali Kao
DESCRIPTION:Animez vos soirées d’été en participant à nos projections en plein air ! \nAu programme : films tous publics projetés sur grand écran\, popcorn et buvette. Cette année\, le thème du sport et de la culture urbaine sera à l’honneur\, programmation réalisée par les habitante·s du quartier. \n→ Rendez-vous à 21h le 04 août sur la place Alphonse Allais.
URL:https://bellevillecitoyenne.fr/evenement/projections-cine-pali-kao/
LOCATION:Place Alphonse Allais\, 75020\, Paris\, France
CATEGORIES:événements
ATTACH;FMTTYPE=image/jpeg:https://bellevillecitoyenne.fr/wp-content/uploads/2023/05/WhatsApp-Image-2022-07-11-at-14.20.55-e1685701696360.jpeg
END:VEVENT
BEGIN:VEVENT
DTSTART;VALUE=DATE:20230807
DTEND;VALUE=DATE:20230808
DTSTAMP:20260420T200544
CREATED:20230728T143611Z
LAST-MODIFIED:20230728T154724Z
UID:12003-1691366400-1691375400@bellevillecitoyenne.fr
SUMMARY:Fermeture
DESCRIPTION:Belleville Citoyenne ferme ses portes du 07 au 20 août 2023. \n→ 18 rue Bisson\, 75020. \n→ 76 rue des Rigoles\, 75020. \nNous vous souhaitons de bonnes vacances !!
URL:https://bellevillecitoyenne.fr/evenement/fermeture/
LOCATION:Belleville Citoyenne\, 18 rue Bisson\, 75020\, Paris\, France
CATEGORIES:Fermeture
ATTACH;FMTTYPE=image/png:https://bellevillecitoyenne.fr/wp-content/uploads/2023/07/FERMETURE-BC-AOUT-1.png
END:VEVENT
BEGIN:VEVENT
DTSTART;TZID=Europe/Paris:20230825T210000
DTEND;TZID=Europe/Paris:20230825T230000
DTSTAMP:20260420T200544
CREATED:20230531T101015Z
LAST-MODIFIED:20230728T142358Z
UID:11836-1692997200-1693004400@bellevillecitoyenne.fr
SUMMARY:Projections Ciné Pali Kao
DESCRIPTION:Animez vos soirées d’été en participant à nos projections en plein air ! \nAu programme : films tous publics projetés sur grand écran\, popcorn et buvette. Cette année\, le thème du sport et de la culture urbaine sera à l’honneur\, programmation réalisée par les habitante·s du quartier. \n→ Rendez-vous à 21h le 25 août sur la place Alphonse Allais.
URL:https://bellevillecitoyenne.fr/evenement/projections-cine-pali-kao-2/
LOCATION:Place Alphonse Allais\, 75020\, Paris\, France
CATEGORIES:événements
ATTACH;FMTTYPE=image/jpeg:https://bellevillecitoyenne.fr/wp-content/uploads/2023/05/WhatsApp-Image-2022-07-11-at-14.20.55-e1685701696360.jpeg
END:VEVENT
END:VCALENDAR