BEGIN:VCALENDAR
VERSION:2.0
PRODID:-//Belleville Citoyenne - ECPv6.0.1.1//NONSGML v1.0//EN
CALSCALE:GREGORIAN
METHOD:PUBLISH
X-WR-CALNAME:Belleville Citoyenne
X-ORIGINAL-URL:https://bellevillecitoyenne.fr
X-WR-CALDESC:Events for Belleville Citoyenne
REFRESH-INTERVAL;VALUE=DURATION:PT1H
X-Robots-Tag:noindex
X-PUBLISHED-TTL:PT1H
BEGIN:VTIMEZONE
TZID:Europe/Paris
BEGIN:DAYLIGHT
TZOFFSETFROM:+0100
TZOFFSETTO:+0200
TZNAME:CEST
DTSTART:20230326T010000
END:DAYLIGHT
BEGIN:STANDARD
TZOFFSETFROM:+0200
TZOFFSETTO:+0100
TZNAME:CET
DTSTART:20231029T010000
END:STANDARD
END:VTIMEZONE
BEGIN:VEVENT
DTSTART;TZID=Europe/Paris:20231030T090000
DTEND;TZID=Europe/Paris:20231103T170000
DTSTAMP:20260420T161716
CREATED:20231006T153127Z
LAST-MODIFIED:20231006T153127Z
UID:12125-1698656400-1699030800@bellevillecitoyenne.fr
SUMMARY:Formation Modul'R découverte
DESCRIPTION:Venez découvrir la culture et les métiers du numérique à travers la formation Modul’R découverte. Au programme : découverte des tendances web\, création d’un site web\, initiation au graphisme web et à la programmation avec un formateur impliqué et bienveillant. Cette formation est gratuite et s’adresse à toutes les personnes intéressées par le secteur du numérique. \nRendez-vous dans notre local de formation\, au 76 rue des Rigoles\, 75020.
URL:https://bellevillecitoyenne.fr/evenement/formation-modulr-decouverte/
CATEGORIES:Modul'R
ATTACH;FMTTYPE=image/jpeg:https://bellevillecitoyenne.fr/wp-content/uploads/2022/12/priscilla-du-preez-OEdkPaxYMXU-unsplash-3-scaled.jpg
END:VEVENT
BEGIN:VEVENT
DTSTART;TZID=Europe/Paris:20231106T090000
DTEND;TZID=Europe/Paris:20231110T170000
DTSTAMP:20260420T161716
CREATED:20231006T153800Z
LAST-MODIFIED:20231006T153800Z
UID:12127-1699261200-1699635600@bellevillecitoyenne.fr
SUMMARY:Parcours Audiovisuel
DESCRIPTION:Venez découvrir les métiers du cinéma et de la création de contenus vidéo et audio. \n\nParticipez à deux semaines d’initiation pour développer vos compétences en : \n\n\nCaptation d’images et prises de vue\nMise en place d’un tournage\nMontage vidéo\n\nL’objectif de cette première semaine est de prendre connaissance des différentes étapes de la création d’une vidéo et du matériel nécessaire.
URL:https://bellevillecitoyenne.fr/evenement/parcours-audiovisuel-2/
ATTACH;FMTTYPE=image/jpeg:https://bellevillecitoyenne.fr/wp-content/uploads/2023/04/BC-Tournage-Gotham-7-scaled.jpg
END:VEVENT
BEGIN:VEVENT
DTSTART;TZID=Europe/Paris:20231113T090000
DTEND;TZID=Europe/Paris:20231117T170000
DTSTAMP:20260420T161716
CREATED:20231006T152935Z
LAST-MODIFIED:20231006T153341Z
UID:12123-1699866000-1700240400@bellevillecitoyenne.fr
SUMMARY:Formation Modul'R intensive
DESCRIPTION:Venez approfondir vos connaissances dans le numérique et dans la programmation avec la formation Modul’R intensive. Au programme : création d’un site moderne et responsive en utilisant les langages informatiques : HTML & CSS et JavaScript. Cette formation est gratuite et s’adresse à toutes les personnes intéressées par le secteur du numérique. \n  \nRendez-vous dans notre salle de formation\, au 76 rue des Rigoles\, 75020.
URL:https://bellevillecitoyenne.fr/evenement/formation-modulr-intensive/
LOCATION:76 rue des Rigoles\, 75020
CATEGORIES:Modul'R
ATTACH;FMTTYPE=image/jpeg:https://bellevillecitoyenne.fr/wp-content/uploads/2022/12/altumcode-zE007SNgcdE-unsplash-scaled.jpg
END:VEVENT
BEGIN:VEVENT
DTSTART;TZID=Europe/Paris:20231120T090000
DTEND;TZID=Europe/Paris:20231124T170000
DTSTAMP:20260420T161716
CREATED:20231006T154005Z
LAST-MODIFIED:20231006T154005Z
UID:12129-1700470800-1700845200@bellevillecitoyenne.fr
SUMMARY:Parcours Audiovisuel - Semaine intensive
DESCRIPTION:Venez découvrir les métiers du cinéma et de la création de contenus vidéo et audio. \n\nParticipez à deux semaines d’initiation pour développer vos compétences en : \n\n\nCaptation d’images et prises de vue\nMise en place d’un tournage\nMontage vidéo\n\nL’objectif de cette deuxième semaine est de réaliser un reportage vidéo en groupe et maîtriser les différentes étapes de la réalisation vidéo.
URL:https://bellevillecitoyenne.fr/evenement/parcours-audiovisuel-semaine-intensive/
ATTACH;FMTTYPE=image/jpeg:https://bellevillecitoyenne.fr/wp-content/uploads/2023/06/WhatsApp-Image-2023-04-11-at-10.48.48-9-e1686665231747.jpeg
END:VEVENT
END:VCALENDAR