BEGIN:VCALENDAR
VERSION:2.0
PRODID:-//Belleville Citoyenne - ECPv6.0.1.1//NONSGML v1.0//EN
CALSCALE:GREGORIAN
METHOD:PUBLISH
X-WR-CALNAME:Belleville Citoyenne
X-ORIGINAL-URL:https://bellevillecitoyenne.fr
X-WR-CALDESC:Events for Belleville Citoyenne
REFRESH-INTERVAL;VALUE=DURATION:PT1H
X-Robots-Tag:noindex
X-PUBLISHED-TTL:PT1H
BEGIN:VTIMEZONE
TZID:Europe/Paris
BEGIN:DAYLIGHT
TZOFFSETFROM:+0100
TZOFFSETTO:+0200
TZNAME:CEST
DTSTART:20240331T010000
END:DAYLIGHT
BEGIN:STANDARD
TZOFFSETFROM:+0200
TZOFFSETTO:+0100
TZNAME:CET
DTSTART:20241027T010000
END:STANDARD
END:VTIMEZONE
BEGIN:VEVENT
DTSTART;TZID=Europe/Paris:20240122T100000
DTEND;TZID=Europe/Paris:20240202T180000
DTSTAMP:20260420T123807
CREATED:20231128T164046Z
LAST-MODIFIED:20231205T114937Z
UID:12336-1705917600-1706896800@bellevillecitoyenne.fr
SUMMARY:Parcours Régie son et lumière
DESCRIPTION:Viens participer à notre parcours  de 2 semaines et découvre les métiers techniques du spectacle vivant : ingénieur du son concert\, régisseur lumière et régisseur général ! \nAu programme : \n\nParticipe à l’organisation et à l’accueil technique des artistes\nDécouvre les techniques de sonorisation et apprends à utiliser une console de mixage sur du matériel adapté\nDéveloppe tes compétences aux techniques d’éclairage et à la mise en place d’équipements lumière (projecteurs\, branchements…)\nBénéficie d’une mise en situation en préparant un concert dans une salle de spectacle\nOrganise et prépare un événement dans une salle de spectacle\nRencontre des professionnel·le·s du milieu\n\nFormulaire pour s’inscrire : Formulaire de demande d’inscription (airtable.com)
URL:https://bellevillecitoyenne.fr/evenement/parcours-evenementiel-metiers-techniques-du-spectacle-vivant/
LOCATION:76 rue des Rigoles\, 75020
CATEGORIES:Événementiel,Modul'Tech
ATTACH;FMTTYPE=image/jpeg:https://bellevillecitoyenne.fr/wp-content/uploads/2023/04/sebastian-mark-WF7mX19wbHg-unsplash-scaled-e1713368004344.jpg
END:VEVENT
BEGIN:VEVENT
DTSTART;TZID=Europe/Paris:20240205T090000
DTEND;TZID=Europe/Paris:20240209T173000
DTSTAMP:20260420T123807
CREATED:20240201T151021Z
LAST-MODIFIED:20240201T162705Z
UID:12647-1707123600-1707499800@bellevillecitoyenne.fr
SUMMARY:Formation Modul'R Découverte
DESCRIPTION:Venez découvrir la culture et les métiers du numérique à travers la formation Modul’R découverte. Au programme : découverte des tendances web\, création d’un site web\, initiation au graphisme web et à la programmation avec un formateur impliqué et bienveillant. Cette formation est gratuite et s’adresse à toutes les personnes intéressées par le secteur du numérique. \nRendez-vous dans notre local de formation\, au 76 rue des Rigoles\, 75020
URL:https://bellevillecitoyenne.fr/evenement/formation-modulr-decouverte-2/
LOCATION:76 rue des Rigoles\, 75020
CATEGORIES:formation,Modul'R
ATTACH;FMTTYPE=image/jpeg:https://bellevillecitoyenne.fr/wp-content/uploads/2023/06/WhatsApp-Image-2023-05-09-at-16.19.08-1-e1701967537204.jpeg
END:VEVENT
BEGIN:VEVENT
DTSTART;TZID=Europe/Paris:20240217T153000
DTEND;TZID=Europe/Paris:20240217T173000
DTSTAMP:20260420T123807
CREATED:20240212T105626Z
LAST-MODIFIED:20240212T110029Z
UID:12680-1708183800-1708191000@bellevillecitoyenne.fr
SUMMARY:Atelier MAO
DESCRIPTION:Pendant cet atelier\, tu auras l’occasion de découvrir la création de musique assistée par ordinateur et d’enregistrer tes propres sons dans notre studio d’enregistrement. \nAtelier gratuit animé par notre beatmaker HollaDaze. \nRendez-vous le 17 février au 18 rue Bisson de 15h30 à 17h30. \nA très vite !
URL:https://bellevillecitoyenne.fr/evenement/atelier-m-a-o/
LOCATION:18 rue Bisson\, France
CATEGORIES:musique
ATTACH;FMTTYPE=image/jpeg:https://bellevillecitoyenne.fr/wp-content/uploads/2024/02/MAO.jpg
END:VEVENT
BEGIN:VEVENT
DTSTART;TZID=Europe/Paris:20240219T090000
DTEND;TZID=Europe/Paris:20240223T173000
DTSTAMP:20260420T123807
CREATED:20240201T151552Z
LAST-MODIFIED:20240201T163047Z
UID:12655-1708333200-1708709400@bellevillecitoyenne.fr
SUMMARY:Formation Modul'R Intensive
DESCRIPTION:Venez approfondir vos connaissances dans le numérique et dans la programmation avec la formation Modul’R intensive. Au programme : création d’un site moderne et responsive en utilisant les langages informatiques : HTML & CSS et JavaScript. Cette formation est gratuite et s’adresse à toutes les personnes intéressées par le secteur du numérique. \n  \nRendez-vous dans notre salle de formation\, au 76 rue des Rigoles\, 75020.
URL:https://bellevillecitoyenne.fr/evenement/modulr-intensive-2/
LOCATION:76 rue des Rigoles\, 75020
CATEGORIES:formation,Modul'R
ATTACH;FMTTYPE=image/jpeg:https://bellevillecitoyenne.fr/wp-content/uploads/2022/12/WhatsApp-Image-2023-05-12-at-11.52.28-2-e1713369419984.jpeg
END:VEVENT
END:VCALENDAR