BEGIN:VCALENDAR
VERSION:2.0
PRODID:-//Belleville Citoyenne - ECPv6.0.1.1//NONSGML v1.0//EN
CALSCALE:GREGORIAN
METHOD:PUBLISH
X-WR-CALNAME:Belleville Citoyenne
X-ORIGINAL-URL:https://bellevillecitoyenne.fr
X-WR-CALDESC:Events for Belleville Citoyenne
REFRESH-INTERVAL;VALUE=DURATION:PT1H
X-Robots-Tag:noindex
X-PUBLISHED-TTL:PT1H
BEGIN:VTIMEZONE
TZID:Europe/Paris
BEGIN:DAYLIGHT
TZOFFSETFROM:+0100
TZOFFSETTO:+0200
TZNAME:CEST
DTSTART:20240331T010000
END:DAYLIGHT
BEGIN:STANDARD
TZOFFSETFROM:+0200
TZOFFSETTO:+0100
TZNAME:CET
DTSTART:20241027T010000
END:STANDARD
END:VTIMEZONE
BEGIN:VEVENT
DTSTART;TZID=Europe/Paris:20241202T093000
DTEND;TZID=Europe/Paris:20241206T173000
DTSTAMP:20260421T135213
CREATED:20240912T091301Z
LAST-MODIFIED:20241023T084245Z
UID:14405-1733131800-1733506200@bellevillecitoyenne.fr
SUMMARY:Formation Modul'R intensive
DESCRIPTION:Venez approfondir vos connaissances dans le numérique et dans la programmation avec la formation Modul’R intensive. \nAu programme : création d’un site moderne et responsive en utilisant les langages informatique : HTML & CSS et JavaScript. \nCette formation est gratuite et s’adresse aux personnes âgées entre 16 et 30 ans. \nRendez-vous dans notre local de formation\, au 76 rue des Rigoles\, 75020.
URL:https://bellevillecitoyenne.fr/evenement/formation-modulr-intensive-7/
LOCATION:76 rue des Rigoles\, 75020
CATEGORIES:formation,Modul'R
ATTACH;FMTTYPE=image/jpeg:https://bellevillecitoyenne.fr/wp-content/uploads/2024/09/WhatsApp-Image-2023-05-12-at-11.52.28-3-e1732114614778.jpeg
END:VEVENT
BEGIN:VEVENT
DTSTART;TZID=Europe/Paris:20241209T093000
DTEND;TZID=Europe/Paris:20241213T173000
DTSTAMP:20260421T135213
CREATED:20240912T092156Z
LAST-MODIFIED:20241023T084324Z
UID:14407-1733736600-1734111000@bellevillecitoyenne.fr
SUMMARY:Formation Modul'R découverte
DESCRIPTION:Venez découvrir la culture et les métiers du numérique à travers la formation Modul’R découverte. \nAu programme : découverte des tendances web\, création d’un site web\, initiation au graphisme web et à la programmation avec un formateur impliqué et bienveillant. \nCette formation est gratuite et s’adresse aux personnes âgées entre 16 et 30 ans. \nRendez-vous dans notre local de formation\, au 76 rue des Rigoles\, 75020
URL:https://bellevillecitoyenne.fr/evenement/formation-modulr-decouverte-8/
LOCATION:76 rue des Rigoles\, 75020
CATEGORIES:formation,Modul'R
ATTACH;FMTTYPE=image/jpeg:https://bellevillecitoyenne.fr/wp-content/uploads/2023/05/WhatsApp-Image-2023-05-12-at-11.52.28-10-1-e1685454412741.jpeg
END:VEVENT
BEGIN:VEVENT
DTSTART;TZID=Europe/Paris:20241212T150000
DTEND;TZID=Europe/Paris:20241212T170000
DTSTAMP:20260421T135213
CREATED:20241120T150532Z
LAST-MODIFIED:20241125T161304Z
UID:14687-1734015600-1734022800@bellevillecitoyenne.fr
SUMMARY:Atelier Santé
DESCRIPTION:Atelier Santé : S’informer pour mieux se soigner !  \nVenez assister à un atelier d’information organisé en collaboration avec la Caisse Primaire d’Assurance Maladie (CPAM). Cet atelier a pour objectif de répondre à toutes vos questions sur l’accès aux droits\, l’accès aux soins\, et la prévention. \nAu programme :  \n\nPrésentation des droits et services par l’intervenant CPAM\nConseils pratiques pour faciliter vos démarches admnistratives\nTemps d’échange avec l’intervenant pour répondre à vos questions\n\n👉 Rejoignez-nous pour cet atelier essentiel et gratuit !
URL:https://bellevillecitoyenne.fr/evenement/atelier-sante/
LOCATION:76 rue des Rigoles\, 75020
CATEGORIES:Bien-être/Santé
ATTACH;FMTTYPE=image/jpeg:https://bellevillecitoyenne.fr/wp-content/uploads/2024/04/WhatsApp-Image-2023-12-11-a-10.22.51_4741ce1f.jpg
END:VEVENT
BEGIN:VEVENT
DTSTART;TZID=Europe/Paris:20241216T093000
DTEND;TZID=Europe/Paris:20241220T173000
DTSTAMP:20260421T135213
CREATED:20240912T093902Z
LAST-MODIFIED:20241211T142218Z
UID:14409-1734341400-1734715800@bellevillecitoyenne.fr
SUMMARY:Formation Modul'R intensive
DESCRIPTION:Venez approfondir vos connaissances dans le numérique et dans la programmation avec la formation Modul’R intensive. \nAu programme : création d’un site moderne et responsive en utilisant les langages informatique : HTML & CSS et JavaScript. \nCette formation est gratuite et s’adresse aux personnes âgées entre 16 et 30 ans. \nRendez-vous dans notre local de formation\, au 76 rue des Rigoles\, 75020.
URL:https://bellevillecitoyenne.fr/evenement/formation-modulr-intensive-8/
LOCATION:76 rue des Rigoles\, 75020
CATEGORIES:formation,Modul'R
ATTACH;FMTTYPE=image/jpeg:https://bellevillecitoyenne.fr/wp-content/uploads/2024/09/WhatsApp-Image-2023-05-12-at-11.52.28-3-e1732114614778.jpeg
END:VEVENT
END:VCALENDAR